BEGIN:VCALENDAR
VERSION:2.0
PRODID:-//hacksw/handcal//NONSGML v1.0//EN
CALSCALE:GREGORIAN
BEGIN:VEVENT
LOCATION:
DESCRIPTION: Vous avez envie de vous initier à la poterie ? Le musée « La maison du...
DTSTART:20260430
DTEND:20260501
SUMMARY:Ateliers Poterie
URL;VALUE=URI:https://www.mairie-grenade.fr/agenda/ateliers-poterie-2/
DTSTAMP:20260420T085457
UID:69e5e9e18ebea
END:VEVENT
END:VCALENDAR